BEGIN:VCALENDAR
PRODID:-//eluceo/ical//2.0/EN
VERSION:2.0
CALSCALE:GREGORIAN
BEGIN:VEVENT
UID:76c6b1817560f43bf8ba5b05442774de
DTSTAMP:20260421T185825Z
SUMMARY:Der Blick hinter das Bild
DESCRIPTION:Relatore/i: Rot. Hannes Kirchhof\, Fotograf
URL:https://rotary-aarau.ch/it/agenda/show/85075
DTSTART;TZID=Europe/Zurich:20180619T121500
DTEND;TZID=Europe/Zurich:20180619T121500
LOCATION:Hotel Bären
CATEGORIES:Rotary
END:VEVENT
BEGIN:VTIMEZONE
TZID:Europe/Zurich
BEGIN:DAYLIGHT
DTSTART:20180619T121500
TZNAME:CEST
TZOFFSETTO:+0200
TZOFFSETFROM:+0200
END:DAYLIGHT
END:VTIMEZONE
END:VCALENDAR
