BEGIN:VCALENDAR
PRODID:-//eluceo/ical//2.0/EN
VERSION:2.0
CALSCALE:GREGORIAN
BEGIN:VEVENT
UID:313098006da61a67f9a0ac1176cd4fd4
DTSTAMP:20260422T105433Z
SUMMARY:Club – Apéro
DESCRIPTION:
URL:https://rotary-aarau.ch/fr/agenda/show/95573
DTSTART;TZID=Europe/Zurich:20190103T183000
DTEND;TZID=Europe/Zurich:20190103T183000
LOCATION:Restaurant Schützen\, Aarau 
CATEGORIES:Rotary
END:VEVENT
BEGIN:VTIMEZONE
TZID:Europe/Zurich
BEGIN:STANDARD
DTSTART:20190103T183000
TZNAME:CET
TZOFFSETTO:+0100
TZOFFSETFROM:+0100
END:STANDARD
END:VTIMEZONE
END:VCALENDAR
