BEGIN:VCALENDAR
PRODID:-//eluceo/ical//2.0/EN
VERSION:2.0
CALSCALE:GREGORIAN
BEGIN:VEVENT
UID:5e363d46379d58c93703f7b0090a3994
DTSTAMP:20260422T103546Z
SUMMARY:Visite.ch
DESCRIPTION:Conférencier(s): Austausch von Lernenden\nRot Urs Nüesch\, Vo
 rstand Verein Visite.ch
URL:https://rotary-aarau.ch/fr/agenda/show/92014
DTSTART;TZID=Europe/Zurich:20181211T121500
DTEND;TZID=Europe/Zurich:20181211T121500
LOCATION:Hotel Bären
CATEGORIES:Rotary
END:VEVENT
BEGIN:VTIMEZONE
TZID:Europe/Zurich
BEGIN:STANDARD
DTSTART:20181211T121500
TZNAME:CET
TZOFFSETTO:+0100
TZOFFSETFROM:+0100
END:STANDARD
END:VTIMEZONE
END:VCALENDAR
