BEGIN:VCALENDAR
PRODID:-//eluceo/ical//2.0/EN
VERSION:2.0
CALSCALE:GREGORIAN
BEGIN:VEVENT
UID:851b088fc84e986e449edae9401692b4
DTSTAMP:20260422T121235Z
SUMMARY:Club - Apéro  
DESCRIPTION:
URL:https://rotary-aarau.ch/fr/agenda/show/92013
DTSTART;TZID=Europe/Zurich:20181206T183000
DTEND;TZID=Europe/Zurich:20181206T183000
LOCATION:Restaurant Schützen\, Aarau
CATEGORIES:Rotary
END:VEVENT
BEGIN:VTIMEZONE
TZID:Europe/Zurich
BEGIN:STANDARD
DTSTART:20181206T183000
TZNAME:CET
TZOFFSETTO:+0100
TZOFFSETFROM:+0100
END:STANDARD
END:VTIMEZONE
END:VCALENDAR
