BEGIN:VCALENDAR
PRODID:-//eluceo/ical//2.0/EN
VERSION:2.0
CALSCALE:GREGORIAN
BEGIN:VEVENT
UID:d740104600d4a23fc3d201112e50ac00
DTSTAMP:20260420T130756Z
SUMMARY:Referat: „Innovative Geschichten zu spannenden Kunstprojekten“
DESCRIPTION:Conférencier(s): Lorenz Olivier Schmid\, Küttigen  Kunstschaf
 fender 
URL:https://rotary-aarau.ch/fr/agenda/show/92007
DTSTART;TZID=Europe/Zurich:20181106T121500
DTEND;TZID=Europe/Zurich:20181106T121500
LOCATION:Hotel Bären
CATEGORIES:Rotary
END:VEVENT
BEGIN:VTIMEZONE
TZID:Europe/Zurich
BEGIN:STANDARD
DTSTART:20181106T121500
TZNAME:CET
TZOFFSETTO:+0100
TZOFFSETFROM:+0100
END:STANDARD
END:VTIMEZONE
END:VCALENDAR
