BEGIN:VCALENDAR
PRODID:-//eluceo/ical//2.0/EN
VERSION:2.0
CALSCALE:GREGORIAN
BEGIN:VEVENT
UID:e584f914eb31c2eece0a4e5ace29fa48
DTSTAMP:20260420T130520Z
SUMMARY:Rotary Hands-on Anlass
DESCRIPTION:Conférencier(s): Christoph Fischer\, Stadtoberförster
URL:https://rotary-aarau.ch/fr/agenda/show/92004
DTSTART;TZID=Europe/Zurich:20181027T100000
DTEND;TZID=Europe/Zurich:20181027T100000
LOCATION:Aarauer Wald
CATEGORIES:Rotary
END:VEVENT
BEGIN:VTIMEZONE
TZID:Europe/Zurich
BEGIN:DAYLIGHT
DTSTART:20181027T100000
TZNAME:CEST
TZOFFSETTO:+0200
TZOFFSETFROM:+0200
END:DAYLIGHT
END:VTIMEZONE
END:VCALENDAR
