BEGIN:VCALENDAR
PRODID:-//eluceo/ical//2.0/EN
VERSION:2.0
CALSCALE:GREGORIAN
BEGIN:VEVENT
UID:a211a2767bbc4323474d3daacb9cb33a
DTSTAMP:20260421T085630Z
SUMMARY:Innovativ aus Tradition - Als Familien-KMU erfolgreich in der Nisch
 e 
DESCRIPTION:Conférencier(s): Karim Twerenbold\, \nVRP Twerenbold – Reise
 n – Gruppe\n
URL:https://rotary-aarau.ch/fr/agenda/show/85064
DTSTART;TZID=Europe/Zurich:20180501T121500
DTEND;TZID=Europe/Zurich:20180501T121500
LOCATION:Hotel Bären
CATEGORIES:Rotary
END:VEVENT
BEGIN:VTIMEZONE
TZID:Europe/Zurich
BEGIN:DAYLIGHT
DTSTART:20180501T121500
TZNAME:CEST
TZOFFSETTO:+0200
TZOFFSETFROM:+0200
END:DAYLIGHT
END:VTIMEZONE
END:VCALENDAR
