BEGIN:VCALENDAR
PRODID:-//eluceo/ical//2.0/EN
VERSION:2.0
CALSCALE:GREGORIAN
BEGIN:VEVENT
UID:4891f2c1a093278a1998efcfe1b8e455
DTSTAMP:20260422T103724Z
SUMMARY:Kein Lunch und kein Referat
DESCRIPTION:
URL:https://rotary-aarau.ch/fr/agenda/show/120169
DTSTART;TZID=Europe/Zurich:20210202T121500
DTEND;TZID=Europe/Zurich:20210202T140000
LOCATION:-
CATEGORIES:Rotary
END:VEVENT
BEGIN:VTIMEZONE
TZID:Europe/Zurich
BEGIN:STANDARD
DTSTART:20210202T121500
TZNAME:CET
TZOFFSETTO:+0100
TZOFFSETFROM:+0100
END:STANDARD
END:VTIMEZONE
END:VCALENDAR
