BEGIN:VCALENDAR
PRODID:-//eluceo/ical//2.0/EN
VERSION:2.0
CALSCALE:GREGORIAN
BEGIN:VEVENT
UID:c1c7c92f5a2ffc47839534bc1dfa2378
DTSTAMP:20260422T133410Z
SUMMARY:Klassifikationsreferat
DESCRIPTION:Conférencier(s): Rot. Felix Wyss
URL:https://rotary-aarau.ch/fr/agenda/show/120167
DTSTART;TZID=Europe/Zurich:20210126T121500
DTEND;TZID=Europe/Zurich:20210126T140000
LOCATION:Hotel Bären / Zoom
CATEGORIES:Rotary
END:VEVENT
BEGIN:VTIMEZONE
TZID:Europe/Zurich
BEGIN:STANDARD
DTSTART:20210126T121500
TZNAME:CET
TZOFFSETTO:+0100
TZOFFSETFROM:+0100
END:STANDARD
END:VTIMEZONE
END:VCALENDAR
