BEGIN:VCALENDAR
PRODID:-//eluceo/ical//2.0/EN
VERSION:2.0
CALSCALE:GREGORIAN
BEGIN:VEVENT
UID:d5256ce49191ec6be50b5a9b900518f0
DTSTAMP:20260421T112121Z
SUMMARY:Referat: „Schuhfabrikation Schweiz – hart am Markt“
DESCRIPTION:Orador(es): CEO Daniel Omlin\, Fretz Men AG\, Fahrwangen
URL:https://rotary-aarau.ch/es/agenda/show/92002
DTSTART;TZID=Europe/Zurich:20181016T121500
DTEND;TZID=Europe/Zurich:20181016T121500
LOCATION:Hotel Bären
CATEGORIES:Rotary
END:VEVENT
BEGIN:VTIMEZONE
TZID:Europe/Zurich
BEGIN:DAYLIGHT
DTSTART:20181016T121500
TZNAME:CEST
TZOFFSETTO:+0200
TZOFFSETFROM:+0200
END:DAYLIGHT
END:VTIMEZONE
END:VCALENDAR
