BEGIN:VCALENDAR
PRODID:-//eluceo/ical//2.0/EN
VERSION:2.0
CALSCALE:GREGORIAN
BEGIN:VEVENT
UID:f4b7f39148b432ca2728fbd095b75664
DTSTAMP:20260420T145028Z
SUMMARY:Melody Aarau
DESCRIPTION:Orador(es): Vivaldi Nuevo\, After Concert Party
URL:https://rotary-aarau.ch/es/agenda/show/85069
DTSTART;TZID=Europe/Zurich:20180518T184500
DTEND;TZID=Europe/Zurich:20180518T184500
LOCATION:Alte Reithalle - Partneranlass 
CATEGORIES:Rotary
END:VEVENT
BEGIN:VTIMEZONE
TZID:Europe/Zurich
BEGIN:DAYLIGHT
DTSTART:20180518T184500
TZNAME:CEST
TZOFFSETTO:+0200
TZOFFSETFROM:+0200
END:DAYLIGHT
END:VTIMEZONE
END:VCALENDAR
