BEGIN:VCALENDAR
PRODID:-//eluceo/ical//2.0/EN
VERSION:2.0
CALSCALE:GREGORIAN
BEGIN:VEVENT
UID:5316c9bef533ee107dc8ec84dee67bbb
DTSTAMP:20260420T155852Z
SUMMARY:Reunión anual de Polaris 2024 en Barcelona
DESCRIPTION:Sitio web: https://www.granhotelhavana.com/\nOrador(es): \nJan 
 Trnka - Polaris product manager and IT responsible Marion de Lattre Wiesel
  - Polaris Team member
URL:https://team.polaris.rotary.ch/es/agenda/show/185515
DTSTART;TZID=Europe/Zurich:20241125T093000
DTEND;TZID=Europe/Zurich:20241125T163000
LOCATION:Gran Hotel Havana
CATEGORIES:Rotary
END:VEVENT
BEGIN:VTIMEZONE
TZID:Europe/Zurich
BEGIN:STANDARD
DTSTART:20241125T093000
TZNAME:CET
TZOFFSETTO:+0100
TZOFFSETFROM:+0100
END:STANDARD
END:VTIMEZONE
END:VCALENDAR
