BEGIN:VCALENDAR
PRODID:-//eluceo/ical//2.0/EN
VERSION:2.0
CALSCALE:GREGORIAN
BEGIN:VEVENT
UID:5a6793c806b752116a3d5f37d2850da9
DTSTAMP:20260420T172533Z
SUMMARY:Annual Polaris meeting 2024 in Brussels
DESCRIPTION:Sitio web: https://www.hotelbrusselsairport.com/\nOrador(es): \
 nJan Trnka - Polaris product manager and IT responsible Marion de Lattre W
 iesel - Polaris Team memberChristian Mayer - Polaris Team memberHotel loca
 tion: https://maps.app.goo.gl/H5Bc7bDQVpjw9dmZ9
URL:https://team.polaris.rotary.ch/es/agenda/show/180049
DTSTART;TZID=Europe/Zurich:20241118T090000
DTEND;TZID=Europe/Zurich:20241118T163000
LOCATION:Van der Valk Hotel Brussels Airport\, Culliganlaan 4b\, 1831 Diege
 m
CATEGORIES:Rotary
END:VEVENT
BEGIN:VTIMEZONE
TZID:Europe/Zurich
BEGIN:STANDARD
DTSTART:20241118T090000
TZNAME:CET
TZOFFSETTO:+0100
TZOFFSETFROM:+0100
END:STANDARD
END:VTIMEZONE
END:VCALENDAR
