BEGIN:VCALENDAR
PRODID:-//eluceo/ical//2.0/EN
VERSION:2.0
CALSCALE:GREGORIAN
BEGIN:VEVENT
UID:2cf159315bbb3a7a587ac8711530e794
DTSTAMP:20260419T123444Z
SUMMARY:Klassifikationsvortrag: Mark Ammann
DESCRIPTION:Referenten/innen: CEO Ammann & Co. AG\, Shoes\, Oberentfelden
URL:https://rotary-aarau.ch/de/agenda/show/95575
DTSTART;TZID=Europe/Zurich:20190115T121500
DTEND;TZID=Europe/Zurich:20190115T121500
LOCATION:Hotel Bären
CATEGORIES:Rotary
END:VEVENT
BEGIN:VTIMEZONE
TZID:Europe/Zurich
BEGIN:STANDARD
DTSTART:20190115T121500
TZNAME:CET
TZOFFSETTO:+0100
TZOFFSETFROM:+0100
END:STANDARD
END:VTIMEZONE
END:VCALENDAR
